Workbook

Sheet Bon de commande
B1: ACTYCOM SAS | H1: BON DE COMMANDE ACCES TEL
B2: 18 rue de la Vallée Burault | H2: N° commande :
B3: 86340 NOUAILLÉ-MAUPERTUIS | H3: Date : | I3: 46240
B4: SIREN 910 647 650 | H4: Réf. catalogue : | I4: acces tel gsa
B6: FOURNISSEUR
B7: Raison sociale :
B8: Adresse :
B9: Contact :
B10: N° TVA intracom. :
B12: Livraison à : ACTYCOM SAS – 18 rue de la Vallée Burault – 86340 NOUAILLÉ-MAUPERTUIS
B13: Cellules en jaune : à compléter avant envoi (coordonnées fournisseur, quantités). • Cliquez sur [-] à gauche pour replier chaque marque.
B15: Référence | C15: Code-barres (EAN) | D15: Fichier | E15: Désignation | F15: deee en sus | G15: Prix unitaire HT (€) | H15: Prix public référence TTC (€) | I15: Quantité | J15: Total HT (€)
B16: BASEUS
B17: BC3IN1010683 | C17: 6953156205536 | E17: Baseus cable 3in1 Superior USB - Lightning + USB-C + microUSB 1,5 m 3,5A white | F17: 0.04 | G17: 4.99 | H17: 9.99 | J17: =G17*I17 -> 0
B18: BC3IN1014386 | C18: 6932172679606 | E18: Baseus Ultra-Fast One-for-Three Fast Charging Cable USB-A to M+L+C 3.5A 1.3m Nebula Purple | F18: 0.04 | G18: 4.99 | H18: 9.99 | J18: =G18*I18 -> 0
B19: BC3IN1014387 | C19: 6932172679590 | E19: Baseus Ultra-Fast One-for-Three Fast Charging Cable USB-A to M+L+C 3.5A 0.8m Cosmic Black | F19: 0.04 | G19: 7.42 | H19: 8.9 | J19: =G19*I19 -> 0
B20: BCA007144 | C20: 6953156262553 | E20: Baseus cable audio Yiven M01 USB-C - jack 3,5 mm 1,2 m black | F20: 0.04 | G20: 4.99 | H20: 9.99 | J20: =G20*I20 -> 0
B21: BCA008301 | C21: 6953156257184 | E21: Baseus cable audio Yiven M30 jack 3,5 mm - jack 3,5 mm 1,0 m silver-black | F21: 0.04 | G21: 3.99 | H21: 7.99 | J21: =G21*I21 -> 0
B22: BCL006801 | C22: 6953156253667 | E22: Baseus cable Yiven USB - Lightning 1,8 m 2A black | F22: 0.04 | G22: 3.99 | H22: 7.99 | J22: =G22*I22 -> 0
B23: BCL006957 | C23: 6953156248823 | E23: Baseus cable Yiven USB - Lightning 1,2 m 2A navy blue | F23: 0.04 | G23: 3.99 | H23: 7.99 | J23: =G23*I23 -> 0
B24: BCL010678 | C24: 6953156205413 | E24: Baseus cable Superior USB - Lightning 1,0 m 2,4A white | F24: 0.04 | G24: 3.49 | H24: 6.99 | J24: =G24*I24 -> 0
B25: BCL010679 | C25: 6953156205444 | E25: Baseus cable Superior USB - Lightning 1,5 m 2,4A white | F25: 0.04 | G25: 3.99 | H25: 7.99 | J25: =G25*I25 -> 0
B26: BCL011942 | C26: 6953156205406 | E26: Baseus cable Superior USB - Lightning 1,0 m 2,4A black | F26: 0.04 | G26: 3.49 | H26: 6.99 | J26: =G26*I26 -> 0
B27: BCL011943 | C27: 6953156205437 | E27: Baseus cable Superior USB - Lightning 1,0 m 2,4A red | F27: 0.04 | G27: 3.49 | H27: 6.99 | J27: =G27*I27 -> 0
B28: BCL011944 | C28: 6953156205420 | E28: Baseus cable Superior USB - Lightning 1,0 m 2,4A blue | F28: 0.04 | G28: 3.49 | H28: 6.99 | J28: =G28*I28 -> 0
... B50: BV014394 | C50: 6932172677176 | E50: Baseus PD car charger 1x USB-C - USB port 60W black | F50: 0.04 | G50: 18.99 | H50: 29.99 | J50: =G50*I50 -> 0
B51: Sous-total BASEUS | J51: =SUM(J17:J50) -> 0
B52: QUALO
B53: QUCA001 | C53: 5900495055293 | E53: QUALO laptop case 13.3' gray QPL-13-07 dont 0,04 deee | F53: 0.04 | G53: 6.66 | H53: 9.99 | J53: =G53*I53 -> 0
B54: QUCC001 | C54: 5907457783447 | E54: QUALO Recycling USB-C to USB-C cable 1.5m 3A white QRC-CC-00 dont 0,04 deee | F54: 0.04 | G54: 4.44 | H54: 7.99 | J54: =G54*I54 -> 0
B55: QUCC002 | C55: 5907457783423 | E55: QUALO Recycling USB-A to USB-C cable 1.5m 3A white QRC-AC-00 dont 0,04 deee | F55: 0.04 | G55: 4.44 | H55: 7.99 | J55: =G55*I55 -> 0
B56: QUCC003 | C56: 5907457776081 | E56: QUALO Recycling USB-C/USB-C cable 3A 1m QRC-CC-01 dont 0,04 deee | F56: 0.04 | G56: 4.44 | H56: 7.99 | J56: =G56*I56 -> 0
B57: QUCC004 | C57: 5907457782396 | E57: QUALO USB-C-USB-C glowing cable 1M 3A white/silver QCS-CC-00 dont 0,04 deee | F57: 0.04 | G57: 8.33 | H57: 14.99 | J57: =G57*I57 -> 0
B58: QUCC005 | C58: 5907457782419 | E58: QUALO USB-A-USB-C glowing cable 1M 3A white/silver QCS-AC-00 dont 0,04 deee | F58: 0.04 | G58: 8.33 | H58: 14.99 | J58: =G58*I58 -> 0
B59: QUCC006 | C59: 5907457783393 | E59: QUALO Transparent nylon cable USB-C - USB-C 1.5m 3A green QTCN-CC-04 dont 0,04 deee | F59: 0.04 | G59: 5.55 | H59: 9.99 | J59: =G59*I59 -> 0
B60: QUCC007 | C60: 5907457783409 | E60: QUALO Transparent nylon cable USB-A - USB-C 1.5m 3A green QTCN-AC-04 dont 0,04 deee | F60: 0.04 | G60: 5.55 | H60: 9.99 | J60: =G60*I60 -> 0
B61: QUCC008 | C61: 5907457773080 | E61: QUALO nylon cable USB-C - USB-C 1.5m 3A silver QKN-CC-018 dont 0,04 deee | F61: 0.04 | G61: 5.4 | H61: 9.99 | J61: =G61*I61 -> 0
B62: QUCC009 | C62: 5907457773073 | E62: QUALO nylon cable USB-C - USB-C 1.5m 3A yellow QKN-CC-05 dont 0,04 deee | F62: 0.04 | G62: 5.4 | H62: 9.99 | J62: =G62*I62 -> 0
B63: QUCC010 | C63: 5907457773097 | E63: QUALO nylon cable USB-C - USB-C 1.5m 3A pink QKN-CC-16 dont 0,04 deee | F63: 0.04 | G63: 5.4 | H63: 9.99 | J63: =G63*I63 -> 0
B64: QUCC011 | C64: 5907457773103 | E64: QUALO nylon cable USB-C - USB-C 1.5m 3A mint QKN-CC-21 dont 0,04 deee | F64: 0.04 | G64: 5.4 | H64: 9.99 | J64: =G64*I64 -> 0
...

Sheet cadart
A1: fichier | B1: Ref | C1: Libelle Article | D1: Libelle Article | E1: GENCOD | F1: CDT | G1: Minimum commande | H1: Unite de Mesure | I1: poids | J1: DEEE | K1: Prix Tarif Brut | L1: Remise(%) | M1: Prix Tarif Net | N1: TVA | O1: PRIX DE VENTE | Q1: A | R1: B | S1: C | T1: D
A2: ='Bon de commande'!D17 -> 0 | B2: ='Bon de commande'!B17 -> BC3IN1010683 | C2: ='Bon de commande'!E17 -> Baseus cable 3in1 Superior USB - Lightning + USB-C + microUSB 1,5 m 3,5A white | D2: ='Bon de commande'!E17 -> Baseus cable 3in1 Superior USB - Lightning + USB-C + microUSB 1,5 m 3,5A white | E2: ='Bon de commande'!C17 -> 6953156205536 | F2: 1 | G2: 1 | H2: P | I2: 1 | J2: ='Bon de commande'!F17 -> 0.04 | K2: ='Bon de commande'!G17+'Bon de commande'!F17 -> 5.03 | M2: ='Bon de commande'!G17+'Bon de commande'!F17 -> 5.03 | N2: 20 | O2: ='Bon de commande'!H17 -> 9.99 | Q2: 60 | R2: 62 | S2: 6230 | T2: 1
A3: ='Bon de commande'!D18 -> 0 | B3: ='Bon de commande'!B18 -> BC3IN1014386 | C3: ='Bon de commande'!E18 -> Baseus Ultra-Fast One-for-Three Fast Charging Cable USB-A to M+L+C 3.5A 1.3m Nebula Purple | D3: ='Bon de commande'!E18 -> Baseus Ultra-Fast One-for-Three Fast Charging Cable USB-A to M+L+C 3.5A 1.3m Nebula Purple | E3: ='Bon de commande'!C18 -> 6932172679606 | F3: 1 | G3: 1 | H3: P | I3: 1 | J3: ='Bon de commande'!F18 -> 0.04 | K3: ='Bon de commande'!G18+'Bon de commande'!F18 -> 5.03 | M3: ='Bon de commande'!G18+'Bon de commande'!F18 -> 5.03 | N3: 20 | O3: ='Bon de commande'!H18 -> 9.99 | Q3: 60 | R3: 62 | S3: 6230 | T3: 1
A4: ='Bon de commande'!D19 -> 0 | B4: ='Bon de commande'!B19 -> BC3IN1014387 | C4: ='Bon de commande'!E19 -> Baseus Ultra-Fast One-for-Three Fast Charging Cable USB-A to M+L+C 3.5A 0.8m Cosmic Black | D4: ='Bon de commande'!E19 -> Baseus Ultra-Fast One-for-Three Fast Charging Cable USB-A to M+L+C 3.5A 0.8m Cosmic Black | E4: ='Bon de commande'!C19 -> 6932172679590 | F4: 1 | G4: 1 | H4: P | I4: 1 | J4: ='Bon de commande'!F19 -> 0.04 | K4: ='Bon de commande'!G19+'Bon de commande'!F19 -> 7.46 | M4: ='Bon de commande'!G19+'Bon de commande'!F19 -> 7.46 | N4: 20 | O4: ='Bon de commande'!H19 -> 8.9 | Q4: 60 | R4: 62 | S4: 6230 | T4: 1
A5: ='Bon de commande'!D20 -> 0 | B5: ='Bon de commande'!B20 -> BCA007144 | C5: ='Bon de commande'!E20 -> Baseus cable audio Yiven M01 USB-C - jack 3,5 mm 1,2 m black | D5: ='Bon de commande'!E20 -> Baseus cable audio Yiven M01 USB-C - jack 3,5 mm 1,2 m black | E5: ='Bon de commande'!C20 -> 6953156262553 | F5: 1 | G5: 1 | H5: P | I5: 1 | J5: ='Bon de commande'!F20 -> 0.04 | K5: ='Bon de commande'!G20+'Bon de commande'!F20 -> 5.03 | M5: ='Bon de commande'!G20+'Bon de commande'!F20 -> 5.03 | N5: 20 | O5: ='Bon de commande'!H20 -> 9.99 | Q5: A | R5: B | S5: C | T5: D
A6: ='Bon de commande'!D21 -> 0 | B6: ='Bon de commande'!B21 -> BCA008301 | C6: ='Bon de commande'!E21 -> Baseus cable audio Yiven M30 jack 3,5 mm - jack 3,5 mm 1,0 m silver-black | D6: ='Bon de commande'!E21 -> Baseus cable audio Yiven M30 jack 3,5 mm - jack 3,5 mm 1,0 m silver-black | E6: ='Bon de commande'!C21 -> 6953156257184 | F6: 1 | G6: 1 | H6: P | I6: 1 | J6: ='Bon de commande'!F21 -> 0.04 | K6: ='Bon de commande'!G21+'Bon de commande'!F21 -> 4.03 | M6: ='Bon de commande'!G21+'Bon de commande'!F21 -> 4.03 | N6: 20 | O6: ='Bon de commande'!H21 -> 7.99 | Q6: 60 | R6: 62 | S6: 6230 | T6: 1
A7: ='Bon de commande'!D22 -> 0 | B7: ='Bon de commande'!B22 -> BCL006801 | C7: ='Bon de commande'!E22 -> Baseus cable Yiven USB - Lightning 1,8 m 2A black | D7: ='Bon de commande'!E22 -> Baseus cable Yiven USB - Lightning 1,8 m 2A black | E7: ='Bon de commande'!C22 -> 6953156253667 | F7: 1 | G7: 1 | H7: P | I7: 1 | J7: ='Bon de commande'!F22 -> 0.04 | K7: ='Bon de commande'!G22+'Bon de commande'!F22 -> 4.03 | M7: ='Bon de commande'!G22+'Bon de commande'!F22 -> 4.03 | N7: 20 | O7: ='Bon de commande'!H22 -> 7.99 | Q7: 60 | R7: 62 | S7: 6230 | T7: 1
A8: ='Bon de commande'!D23 -> 0 | B8: ='Bon de commande'!B23 -> BCL006957 | C8: ='Bon de commande'!E23 -> Baseus cable Yiven USB - Lightning 1,2 m 2A navy blue | D8: ='Bon de commande'!E23 -> Baseus cable Yiven USB - Lightning 1,2 m 2A navy blue | E8: ='Bon de commande'!C23 -> 6953156248823 | F8: 1 | G8: 1 | H8: P | I8: 1 | J8: ='Bon de commande'!F23 -> 0.04 | K8: ='Bon de commande'!G23+'Bon de commande'!F23 -> 4.03 | M8: ='Bon de commande'!G23+'Bon de commande'!F23 -> 4.03 | N8: 20 | O8: ='Bon de commande'!H23 -> 7.99 | Q8: 60 | R8: 62 | S8: 6230 | T8: 1
A9: ='Bon de commande'!D24 -> 0 | B9: ='Bon de commande'!B24 -> BCL010678 | C9: ='Bon de commande'!E24 -> Baseus cable Superior USB - Lightning 1,0 m 2,4A white | D9: ='Bon de commande'!E24 -> Baseus cable Superior USB - Lightning 1,0 m 2,4A white | E9: ='Bon de commande'!C24 -> 6953156205413 | F9: 1 | G9: 1 | H9: P | I9: 1 | J9: ='Bon de commande'!F24 -> 0.04 | K9: ='Bon de commande'!G24+'Bon de commande'!F24 -> 3.53 | M9: ='Bon de commande'!G24+'Bon de commande'!F24 -> 3.53 | N9: 20 | O9: ='Bon de commande'!H24 -> 6.99 | Q9: A | R9: B | S9: C | T9: D
A10: ='Bon de commande'!D25 -> 0 | B10: ='Bon de commande'!B25 -> BCL010679 | C10: ='Bon de commande'!E25 -> Baseus cable Superior USB - Lightning 1,5 m 2,4A white | D10: ='Bon de commande'!E25 -> Baseus cable Superior USB - Lightning 1,5 m 2,4A white | E10: ='Bon de commande'!C25 -> 6953156205444 | F10: 1 | G10: 1 | H10: P | I10: 1 | J10: ='Bon de commande'!F25 -> 0.04 | K10: ='Bon de commande'!G25+'Bon de commande'!F25 -> 4.03 | M10: ='Bon de commande'!G25+'Bon de commande'!F25 -> 4.03 | N10: 20 | O10: ='Bon de commande'!H25 -> 7.99 | Q10: 60 | R10: 62 | S10: 6230 | T10: 1
A11: ='Bon de commande'!D26 -> 0 | B11: ='Bon de commande'!B26 -> BCL011942 | C11: ='Bon de commande'!E26 -> Baseus cable Superior USB - Lightning 1,0 m 2,4A black | D11: ='Bon de commande'!E26 -> Baseus cable Superior USB - Lightning 1,0 m 2,4A black | E11: ='Bon de commande'!C26 -> 6953156205406 | F11: 1 | G11: 1 | H11: P | I11: 1 | J11: ='Bon de commande'!F26 -> 0.04 | K11: ='Bon de commande'!G26+'Bon de commande'!F26 -> 3.53 | M11: ='Bon de commande'!G26+'Bon de commande'!F26 -> 3.53 | N11: 20 | O11: ='Bon de commande'!H26 -> 6.99 | Q11: 60 | R11: 62 | S11: 6230 | T11: 1
A12: ='Bon de commande'!D27 -> 0 | B12: ='Bon de commande'!B27 -> BCL011943 | C12: ='Bon de commande'!E27 -> Baseus cable Superior USB - Lightning 1,0 m 2,4A red | D12: ='Bon de commande'!E27 -> Baseus cable Superior USB - Lightning 1,0 m 2,4A red | E12: ='Bon de commande'!C27 -> 6953156205437 | F12: 1 | G12: 1 | H12: P | I12: 1 | J12: ='Bon de commande'!F27 -> 0.04 | K12: ='Bon de commande'!G27+'Bon de commande'!F27 -> 3.53 | M12: ='Bon de commande'!G27+'Bon de commande'!F27 -> 3.53 | N12: 20 | O12: ='Bon de commande'!H27 -> 6.99 | Q12: 60 | R12: 62 | S12: 6230 | T12: 1
A13: ='Bon de commande'!D28 -> 0 | B13: ='Bon de commande'!B28 -> BCL011944 | C13: ='Bon de commande'!E28 -> Baseus cable Superior USB - Lightning 1,0 m 2,4A blue | D13: ='Bon de commande'!E28 -> Baseus cable Superior USB - Lightning 1,0 m 2,4A blue | E13: ='Bon de commande'!C28 -> 6953156205420 | F13: 1 | G13: 1 | H13: P | I13: 1 | J13: ='Bon de commande'!F28 -> 0.04 | K13: ='Bon de commande'!G28+'Bon de commande'!F28 -> 3.53 | M13: ='Bon de commande'!G28+'Bon de commande'!F28 -> 3.53 | N13: 20 | O13: ='Bon de commande'!H28 -> 6.99 | Q13: A | R13: B | S13: C | T13: D
A14: ='Bon de commande'!D29 -> 0 | B14: ='Bon de commande'!B29 -> BCL012077 | C14: ='Bon de commande'!E29 -> Baseus cable Crystal Shine USB - Lightning 1,2 m 2,4A purple | D14: ='Bon de commande'!E29 -> Baseus cable Crystal Shine USB - Lightning 1,2 m 2,4A purple | E14: ='Bon de commande'!C29 -> 6932172602703 | F14: 1 | G14: 1 | H14: P | I14: 1 | J14: ='Bon de commande'!F29 -> 0.04 | K14: ='Bon de commande'!G29+'Bon de commande'!F29 -> 4.03 | M14: ='Bon de commande'!G29+'Bon de commande'!F29 -> 4.03 | N14: 20 | O14: ='Bon de commande'!H29 -> 7.99 | Q14: 60 | R14: 62 | S14: 6230 | T14: 1
A15: ='Bon de commande'!D30 -> 0 | B15: ='Bon de commande'!B30 -> BCT006959 | C15: ='Bon de commande'!E30 -> Baseus cable Cafule USB - USB-C 0,5 m 3A red | D15: ='Bon de commande'!E30 -> Baseus cable Cafule USB - USB-C 0,5 m 3A red | E15: ='Bon de commande'!C30 -> 6953156278165 | F15: 1 | G15: 1 | H15: P | I15: 1 | J15: ='Bon de commande'!F30 -> 0.04 | K15: ='Bon de commande'!G30+'Bon de commande'!F30 -> 4.53 | M15: ='Bon de commande'!G30+'Bon de commande'!F30 -> 4.53 | N15: 20 | O15: ='Bon de commande'!H30 -> 8.99 | Q15: 60 | R15: 62 | S15: 6230 | T15: 1
A16: ='Bon de commande'!D31 -> 0 | B16: ='Bon de commande'!B31 -> BCT00719 | C16: ='Bon de commande'!E31 -> Baseus cable Cafule HW QC USB - USB-C 1,0 m gray-black 40W | D16: ='Bon de commande'!E31 -> Baseus cable Cafule HW QC USB - USB-C 1,0 m gray-black 40W | E16: ='Bon de commande'!C31 -> 6953156293564 | F16: 1 | G16: 1 | H16: P | I16: 1 | J16: ='Bon de commande'!F31 -> 0.04 | K16: ='Bon de commande'!G31+'Bon de commande'!F31 -> 4.53 | M16: ='Bon de commande'!G31+'Bon de commande'!F31 -> 4.53 | N16: 20 | O16: ='Bon de commande'!H31 -> 8.99 | Q16: 60 | R16: 62 | S16: 6230 | T16: 1
A17: ='Bon de commande'!D32 -> 0 | B17: ='Bon de commande'!B32 -> BCT010682 | C17: ='Bon de commande'!E32 -> Baseus cable Superior USB - USB-C 2,0 m white 66W | D17: ='Bon de commande'!E32 -> Baseus cable Superior USB - USB-C 2,0 m white 66W | E17: ='Bon de commande'!C32 -> 6953156205529 | F17: 1 | G17: 1 | H17: P | I17: 1 | J17: ='Bon de commande'!F32 -> 0.04 | K17: ='Bon de commande'!G32+'Bon de commande'!F32 -> 5.03 | M17: ='Bon de commande'!G32+'Bon de commande'!F32 -> 5.03 | N17: 20 | O17: ='Bon de commande'!H32 -> 9.99 | Q17: A | R17: B | S17: C | T17: D
A18: ='Bon de commande'!D33 -> 0 | B18: ='Bon de commande'!B33 -> BCT010728 | C18: ='Bon de commande'!E33 -> Baseus cable Cafule PD USB-C - USB-C 1,0 m red-black 60W | D18: ='Bon de commande'!E33 -> Baseus cable Cafule PD USB-C - USB-C 1,0 m red-black 60W | E18: ='Bon de commande'!C33 -> 6953156285217 | F18: 1 | G18: 1 | H18: P | I18: 1 | J18: ='Bon de commande'!F33 -> 0.04 | K18: ='Bon de commande'!G33+'Bon de commande'!F33 -> 4.53 | M18: ='Bon de commande'!G33+'Bon de commande'!F33 -> 4.53 | N18: 20 | O18: ='Bon de commande'!H33 -> 8.99 | Q18: 60 | R18: 62 | S18: 6230 | T18: 1
A19: ='Bon de commande'!D34 -> 0 | B19: ='Bon de commande'!B34 -> BCT011820 | C19: ='Bon de commande'!E34 -> Baseus cable Cafule PD USB-C - USB-C 2,0 m red-black 60W | D19: ='Bon de commande'!E34 -> Baseus cable Cafule PD USB-C - USB-C 2,0 m red-black 60W | E19: ='Bon de commande'!C34 -> 6953156285248 | F19: 1 | G19: 1 | H19: P | I19: 1 | J19: ='Bon de commande'!F34 -> 0.04 | K19: ='Bon de commande'!G34+'Bon de commande'!F34 -> 4.96 | M19: ='Bon de commande'!G34+'Bon de commande'!F34 -> 4.96 | N19: 20 | O19: ='Bon de commande'!H34 -> 9.9 | Q19: 60 | R19: 62 | S19: 6230 | T19: 1
A20: ='Bon de commande'!D35 -> 0 | B20: ='Bon de commande'!B35 -> BCT012635 | C20: ='Bon de commande'!E35 -> Baseus cable Simple Wisdom USB - USB-C 1,5 m 5A white 2 pcs | D20: ='Bon de commande'!E35 -> Baseus cable Simple Wisdom USB - USB-C 1,5 m 5A white 2 pcs | E20: ='Bon de commande'!C35 -> 6953156230309 | F20: 1 | G20: 1 | H20: P | I20: 1 | J20: ='Bon de commande'!F35 -> 0.04 | K20: ='Bon de commande'!G35+'Bon de commande'!F35 -> 5.03 | M20: ='Bon de commande'!G35+'Bon de commande'!F35 -> 5.03 | N20: 20 | O20: ='Bon de commande'!H35 -> 9.99 | Q20: 60 | R20: 62 | S20: 6230 | T20: 1
A21: ='Bon de commande'!D36 -> 0 | B21: ='Bon de commande'!B36 -> BCT013008 | C21: ='Bon de commande'!E36 -> Baseus cable Cafule PD 2.0 USB-C - USB-C 1,0m 3A red 60W | D21: ='Bon de commande'!E36 -> Baseus cable Cafule PD 2.0 USB-C - USB-C 1,0m 3A red 60W | E21: ='Bon de commande'!C36 -> 6953156285194 | F21: 1 | G21: 1 | H21: P | I21: 1 | J21: ='Bon de commande'!F36 -> 0.04 | K21: ='Bon de commande'!G36+'Bon de commande'!F36 -> 4.53 | M21: ='Bon de commande'!G36+'Bon de commande'!F36 -> 4.53 | N21: 20 | O21: ='Bon de commande'!H36 -> 8.99 | Q21: A | R21: B | S21: C | T21: D
A22: ='Bon de commande'!D37 -> 0 | B22: ='Bon de commande'!B37 -> BCT013010 | C22: ='Bon de commande'!E37 -> Baseus cable Cafule PD 2.0 USB-C - USB-C 2,0m 3A red 60W | D22: ='Bon de commande'!E37 -> Baseus cable Cafule PD 2.0 USB-C - USB-C 2,0m 3A red 60W | E22: ='Bon de commande'!C37 -> 6953156285224 | F22: 1 | G22: 1 | H22: P | I22: 1 | J22: ='Bon de commande'!F37 -> 0.04 | K22: ='Bon de commande'!G37+'Bon de commande'!F37 -> 5.03 | M22: ='Bon de commande'!G37+'Bon de commande'!F37 -> 5.03 | N22: 20 | O22: ='Bon de commande'!H37 -> 9.99 | Q22: 60 | R22: 62 | S22: 6230 | T22: 1
A23: ='Bon de commande'!D38 -> 0 | B23: ='Bon de commande'!B38 -> BCT013186 | C23: ='Bon de commande'!E38 -> Baseus cable Superior USB - USB-C 2,0m black 66W | D23: ='Bon de commande'!E38 -> Baseus cable Superior USB - USB-C 2,0m black 66W | E23: ='Bon de commande'!C38 -> 6953156205512 | F23: 1 | G23: 1 | H23: P | I23: 1 | J23: ='Bon de commande'!F38 -> 0.04 | K23: ='Bon de commande'!G38+'Bon de commande'!F38 -> 8.29 | M23: ='Bon de commande'!G38+'Bon de commande'!F38 -> 8.29 | N23: 20 | O23: ='Bon de commande'!H38 -> 9.9 | Q23: 60 | R23: 62 | S23: 6230 | T23: 1
A24: ='Bon de commande'!D39 -> 0 | B24: ='Bon de commande'!B39 -> BCT014050 | C24: ='Bon de commande'!E39 -> Baseus Superior Series 2 Fast Charging Data Cable Type-C to Type-C 30W 1m Moon White | D24: ='Bon de commande'!E39 -> Baseus Superior Series 2 Fast Charging Data Cable Type-C to Type-C 30W 1m Moon White | E24: ='Bon de commande'!C39 -> 6932172648800 | F24: 1 | G24: 1 | H24: P | I24: 1 | J24: ='Bon de commande'!F39 -> 0.04 | K24: ='Bon de commande'!G39+'Bon de commande'!F39 -> 4.53 | M24: ='Bon de commande'!G39+'Bon de commande'!F39 -> 4.53 | N24: 20 | O24: ='Bon de commande'!H39 -> 8.99 | Q24: 60 | R24: 62 | S24: 6230 | T24: 1
A25: ='Bon de commande'!D40 -> 0 | B25: ='Bon de commande'!B40 -> BCT014051 | C25: ='Bon de commande'!E40 -> Baseus Superior Series 2 Fast Charging Data Cable Type-C to Type-C 30W 2m Moon White | D25: ='Bon de commande'!E40 -> Baseus Superior Series 2 Fast Charging Data Cable Type-C to Type-C 30W 2m Moon White | E25: ='Bon de commande'!C40 -> 6932172648794 | F25: 1 | G25: 1 | H25: P | I25: 1 | J25: ='Bon de commande'!F40 -> 0.04 | K25: ='Bon de commande'!G40+'Bon de commande'!F40 -> 5.03 | M25: ='Bon de commande'!G40+'Bon de commande'!F40 -> 5.03 | N25: 20 | O25: ='Bon de commande'!H40 -> 9.99 | Q25: A | R25: B | S25: C | T25: D
A26: ='Bon de commande'!D41 -> 0 | B26: ='Bon de commande'!B41 -> BH010741 | C26: ='Bon de commande'!E41 -> Adaptateur Baseus HUB Square USB 3.0 vers 4x USB noir dont 0,02 deee | D26: ='Bon de commande'!E41 -> Adaptateur Baseus HUB Square USB 3.0 vers 4x USB noir dont 0,02 deee | E26: ='Bon de commande'!C41 -> 6953156297104 | F26: 1 | G26: 1 | H26: P | I26: 1 | J26: ='Bon de commande'!F41 -> 0.04 | K26: ='Bon de commande'!G41+'Bon de commande'!F41 -> 7.59 | M26: ='Bon de commande'!G41+'Bon de commande'!F41 -> 7.59 | N26: 20 | O26: ='Bon de commande'!H41 -> 19.99 | Q26: 60 | R26: 62 | S26: 6230 | T26: 1
A27: ='Bon de commande'!D42 -> 0 | B27: ='Bon de commande'!B42 -> BH011044 | C27: ='Bon de commande'!E42 -> Baseus car charger Share Together 2in1 PD 120W 2x USB 2x USB-C gray | D27: ='Bon de commande'!E42 -> Baseus car charger Share Together 2in1 PD 120W 2x USB 2x USB-C gray | E27: ='Bon de commande'!C42 -> 6953156206670 | F27: 1 | G27: 1 | H27: P | I27: 1 | J27: ='Bon de commande'!F42 -> 0.04 | K27: ='Bon de commande'!G42+'Bon de commande'!F42 -> 19.03 | M27: ='Bon de commande'!G42+'Bon de commande'!F42 -> 19.03 | N27: 20 | O27: ='Bon de commande'!H42 -> 29.99 | Q27: 60 | R27: 62 | S27: 6230 | T27: 1
A28: ='Bon de commande'!D43 -> 0 | B28: ='Bon de commande'!B43 -> BH011930 | C28: ='Bon de commande'!E43 -> Adaptateur Baseus HUB Lite USB-C vers 4x USB 3.0 2.0m blanc dont 0,02 deee | D28: ='Bon de commande'!E43 -> Adaptateur Baseus HUB Lite USB-C vers 4x USB 3.0 2.0m blanc dont 0,02 deee | E28: ='Bon de commande'!C43 -> 6932172606299 | F28: 1 | G28: 1 | H28: P | I28: 1 | J28: ='Bon de commande'!F43 -> 0.04 | K28: ='Bon de commande'!G43+'Bon de commande'!F43 -> 16.14 | M28: ='Bon de commande'!G43+'Bon de commande'!F43 -> 16.14 | N28: 20 | O28: ='Bon de commande'!H43 -> 29.99 | Q28: 60 | R28: 62 | S28: 6230 | T28: 1
A29: ='Bon de commande'!D44 -> 0 | B29: ='Bon de commande'!B44 -> BH012055 | C29: ='Bon de commande'!E44 -> Adaptateur Baseus HUB Lite USB-C vers 4x USB 3.0 2.0m noir dont 0,02deee | D29: ='Bon de commande'!E44 -> Adaptateur Baseus HUB Lite USB-C vers 4x USB 3.0 2.0m noir dont 0,02deee | E29: ='Bon de commande'!C44 -> 6932172606282 | F29: 1 | G29: 1 | H29: P | I29: 1 | J29: ='Bon de commande'!F44 -> 0.04 | K29: ='Bon de commande'!G44+'Bon de commande'!F44 -> 15.14 | M29: ='Bon de commande'!G44+'Bon de commande'!F44 -> 15.14 | N29: 20 | O29: ='Bon de commande'!H44 -> 29.99 | Q29: A | R29: B | S29: C | T29: D
A30: ='Bon de commande'!D45 -> 0 | B30: ='Bon de commande'!B45 -> BM010568 | C30: ='Bon de commande'!E45 -> Baseus wall charger Super Si PD 20W 1x USB-C black | D30: ='Bon de commande'!E45 -> Baseus wall charger Super Si PD 20W 1x USB-C black | E30: ='Bon de commande'!C45 -> 6953156229990 | F30: 1 | G30: 1 | H30: P | I30: 1 | J30: ='Bon de commande'!F45 -> 0.04 | K30: ='Bon de commande'!G45+'Bon de commande'!F45 -> 9.03 | M30: ='Bon de commande'!G45+'Bon de commande'!F45 -> 9.03 | N30: 20 | O30: ='Bon de commande'!H45 -> 14.99 | Q30: 60 | R30: 62 | S30: 6230 | T30: 1
A31: ='Bon de commande'!D46 -> 0 | B31: ='Bon de commande'!B46 -> BM010569 | C31: ='Bon de commande'!E46 -> Baseus wall charger Super Si PD 20W 1x USB-C white | D31: ='Bon de commande'!E46 -> Baseus wall charger Super Si PD 20W 1x USB-C white | E31: ='Bon de commande'!C46 -> 6953156230002 | F31: 1 | G31: 1 | H31: P | I31: 1 | J31: ='Bon de commande'!F46 -> 0.04 | K31: ='Bon de commande'!G46+'Bon de commande'!F46 -> 8.03 | M31: ='Bon de commande'!G46+'Bon de commande'!F46 -> 8.03 | N31: 20 | O31: ='Bon de commande'!H46 -> 12.99 | Q31: 60 | R31: 62 | S31: 6230 | T31: 1
A32: ='Bon de commande'!D47 -> 0 | B32: ='Bon de commande'!B47 -> BM010745 | C32: ='Bon de commande'!E47 -> Baseus wall charger Super Si PD 25W 1x USBC black + USB-C - USB-C cable | D32: ='Bon de commande'!E47 -> Baseus wall charger Super Si PD 25W 1x USBC black + USB-C - USB-C cable | E32: ='Bon de commande'!C47 -> 6953156206021 | F32: 1 | G32: 1 | H32: P | I32: 1 | J32: ='Bon de commande'!F47 -> 0.04 | K32: ='Bon de commande'!G47+'Bon de commande'!F47 -> 11.03 | M32: ='Bon de commande'!G47+'Bon de commande'!F47 -> 11.03 | N32: 20 | O32: ='Bon de commande'!H47 -> 17.99 | Q32: 60 | R32: 62 | S32: 6230 | T32: 1
A33: ='Bon de commande'!D48 -> 0 | B33: ='Bon de commande'!B48 -> BM011033 | C33: ='Bon de commande'!E48 -> Baseus wall charger Compact PD 20W 1x USB-C 1x USB black | D33: ='Bon de commande'!E48 -> Baseus wall charger Compact PD 20W 1x USB-C 1x USB black | E33: ='Bon de commande'!C48 -> 6953156207233 | F33: 1 | G33: 1 | H33: P | I33: 1 | J33: ='Bon de commande'!F48 -> 0.04 | K33: ='Bon de commande'!G48+'Bon de commande'!F48 -> 9.03 | M33: ='Bon de commande'!G48+'Bon de commande'!F48 -> 9.03 | N33: 20 | O33: ='Bon de commande'!H48 -> 14.99 | Q33: A | R33: B | S33: C | T33: D
A34: ='Bon de commande'!D49 -> 0 | B34: ='Bon de commande'!B49 -> BV008234 | C34: ='Bon de commande'!E49 -> Baseus Circular Plastic QC 3.0 PD car charger 1x USB-C - USB port 30W black | D34: ='Bon de commande'!E49 -> Baseus Circular Plastic QC 3.0 PD car charger 1x USB-C - USB port 30W black | E34: ='Bon de commande'!C49 -> 6953156286535 | F34: 1 | G34: 1 | H34: P | I34: 1 | J34: ='Bon de commande'!F49 -> 0.04 | K34: ='Bon de commande'!G49+'Bon de commande'!F49 -> 7.03 | M34: ='Bon de commande'!G49+'Bon de commande'!F49 -> 7.03 | N34: 20 | O34: ='Bon de commande'!H49 -> 11.99 | Q34: 60 | R34: 62 | S34: 6230 | T34: 1
A35: ='Bon de commande'!D50 -> 0 | B35: ='Bon de commande'!B50 -> BV014394 | C35: ='Bon de commande'!E50 -> Baseus PD car charger 1x USB-C - USB port 60W black | D35: ='Bon de commande'!E50 -> Baseus PD car charger 1x USB-C - USB port 60W black | E35: ='Bon de commande'!C50 -> 6932172677176 | F35: 1 | G35: 1 | H35: P | I35: 1 | J35: ='Bon de commande'!F50 -> 0.04 | K35: ='Bon de commande'!G50+'Bon de commande'!F50 -> 19.03 | M35: ='Bon de commande'!G50+'Bon de commande'!F50 -> 19.03 | N35: 20 | O35: ='Bon de commande'!H50 -> 29.99 | Q35: 60 | R35: 62 | S35: 6230 | T35: 1
A36: ='Bon de commande'!D51 -> 0 | B36: ='Bon de commande'!B51 -> Sous-total BASEUS | C36: ='Bon de commande'!E51 -> 0 | D36: ='Bon de commande'!E51 -> 0 | E36: ='Bon de commande'!C51 -> 0 | F36: 1 | G36: 1 | H36: P | I36: 1 | J36: ='Bon de commande'!F51 -> 0 | K36: ='Bon de commande'!G51+'Bon de commande'!F51 -> 0 | M36: ='Bon de commande'!G51+'Bon de commande'!F51 -> 0 | N36: 20 | O36: ='Bon de commande'!H51 -> 0 | Q36: 60 | R36: 62 | S36: 6230 | T36: 1
A37: ='Bon de commande'!D52 -> 0 | B37: ='Bon de commande'!B52 -> QUALO | C37: ='Bon de commande'!E52 -> 0 | D37: ='Bon de commande'!E52 -> 0 | E37: ='Bon de commande'!C52 -> 0 | F37: 1 | G37: 1 | H37: P | I37: 1 | J37: ='Bon de commande'!F52 -> 0 | K37: ='Bon de commande'!G52+'Bon de commande'!F52 -> 0 | M37: ='Bon de commande'!G52+'Bon de commande'!F52 -> 0 | N37: 20 | O37: ='Bon de commande'!H52 -> 0 | Q37: A | R37: B | S37: C | T37: D
A38: ='Bon de commande'!D53 -> 0 | B38: ='Bon de commande'!B53 -> QUCA001 | C38: ='Bon de commande'!E53 -> QUALO laptop case 13.3' gray QPL-13-07 dont 0,04 deee | D38: ='Bon de commande'!E53 -> QUALO laptop case 13.3' gray QPL-13-07 dont 0,04 deee | E38: ='Bon de commande'!C53 -> 5900495055293 | F38: 1 | G38: 1 | H38: P | I38: 1 | J38: ='Bon de commande'!F53 -> 0.04 | K38: ='Bon de commande'!G53+'Bon de commande'!F53 -> 6.7 | M38: ='Bon de commande'!G53+'Bon de commande'!F53 -> 6.7 | N38: 20 | O38: ='Bon de commande'!H53 -> 9.99 | Q38: 60 | R38: 62 | S38: 6230 | T38: 1
A39: ='Bon de commande'!D54 -> 0 | B39: ='Bon de commande'!B54 -> QUCC001 | C39: ='Bon de commande'!E54 -> QUALO Recycling USB-C to USB-C cable 1.5m 3A white QRC-CC-00 dont 0,04 deee | D39: ='Bon de commande'!E54 -> QUALO Recycling USB-C to USB-C cable 1.5m 3A white QRC-CC-00 dont 0,04 deee | E39: ='Bon de commande'!C54 -> 5907457783447 | F39: 1 | G39: 1 | H39: P | I39: 1 | J39: ='Bon de commande'!F54 -> 0.04 | K39: ='Bon de commande'!G54+'Bon de commande'!F54 -> 4.48 | M39: ='Bon de commande'!G54+'Bon de commande'!F54 -> 4.48 | N39: 20 | O39: ='Bon de commande'!H54 -> 7.99 | Q39: 60 | R39: 62 | S39: 6230 | T39: 1
A40: ='Bon de commande'!D55 -> 0 | B40: ='Bon de commande'!B55 -> QUCC002 | C40: ='Bon de commande'!E55 -> QUALO Recycling USB-A to USB-C cable 1.5m 3A white QRC-AC-00 dont 0,04 deee | D40: ='Bon de commande'!E55 -> QUALO Recycling USB-A to USB-C cable 1.5m 3A white QRC-AC-00 dont 0,04 deee | E40: ='Bon de commande'!C55 -> 5907457783423 | F40: 1 | G40: 1 | H40: P | I40: 1 | J40: ='Bon de commande'!F55 -> 0.04 | K40: ='Bon de commande'!G55+'Bon de commande'!F55 -> 4.48 | M40: ='Bon de commande'!G55+'Bon de commande'!F55 -> 4.48 | N40: 20 | O40: ='Bon de commande'!H55 -> 7.99 | Q40: 60 | R40: 62 | S40: 6230 | T40: 1
...

Sheet ulis
A1: fichier | B1: Fournisseur | C1: Famille | D1: EAN | E1: Référence Fournisseur | F1: Libellé Etiquette | G1: Libellé Caisse | H1: Prix d'achat brut | I1: Prix de vente | J1: Marge | K1: Groupe Tarifaire | L1: Code TVA | M1: Type Produit | N1: Unité Mesure | O1: Unité Stock | P1: Unité Prix | Q1: Mesure nette | R1: Cdt | S1: Taxe D3E | T1: Code Nomenclature SU | U1: Ingrédient | V1: PLU | W1: Pesée en caisse | X1: Type Saisie Balance | Y1: Nombre unité par UC | Z1: Prix de revient | AA1: Désignation nomenclature douanière magasin | AB1: Hauteur UL | AC1: Profondeur UL | AD1: Largeur UL | AE1: Poids brut UL | AF1: Poids net UL | AG1: Canal de vente | AH1: Dénomination légale de vente | AI1: Conditions particulières de conservation et/ou d'utilisation | AJ1: Mode d'emploi | AK1: Informations supplémentaires | AL1: Origine | AM1: Vals. Nut. pour 100g/100ml | AN1: Vals. Nut. Portion | AO1: Composition
A2: ='Bon de commande'!D17 -> 0 | B2: actycom | D2: ='Bon de commande'!C17 -> 6953156205536 | E2: ='Bon de commande'!B17 -> BC3IN1010683 | F2: ='Bon de commande'!E17 -> Baseus cable 3in1 Superior USB - Lightning + USB-C + microUSB 1,5 m 3,5A white | G2: ='Bon de commande'!E17 -> Baseus cable 3in1 Superior USB - Lightning + USB-C + microUSB 1,5 m 3,5A white | H2: ='Bon de commande'!G17+'Bon de commande'!F17 -> 5.03 | I2: ='Bon de commande'!H17 -> 9.99 | L2: 0.2
A3: ='Bon de commande'!D18 -> 0 | B3: actycom | D3: ='Bon de commande'!C18 -> 6932172679606 | E3: ='Bon de commande'!B18 -> BC3IN1014386 | F3: ='Bon de commande'!E18 -> Baseus Ultra-Fast One-for-Three Fast Charging Cable USB-A to M+L+C 3.5A 1.3m Nebula Purple | G3: ='Bon de commande'!E18 -> Baseus Ultra-Fast One-for-Three Fast Charging Cable USB-A to M+L+C 3.5A 1.3m Nebula Purple | H3: ='Bon de commande'!G18+'Bon de commande'!F18 -> 5.03 | I3: ='Bon de commande'!H18 -> 9.99 | L3: 0.2
A4: ='Bon de commande'!D19 -> 0 | B4: actycom | D4: ='Bon de commande'!C19 -> 6932172679590 | E4: ='Bon de commande'!B19 -> BC3IN1014387 | F4: ='Bon de commande'!E19 -> Baseus Ultra-Fast One-for-Three Fast Charging Cable USB-A to M+L+C 3.5A 0.8m Cosmic Black | G4: ='Bon de commande'!E19 -> Baseus Ultra-Fast One-for-Three Fast Charging Cable USB-A to M+L+C 3.5A 0.8m Cosmic Black | H4: ='Bon de commande'!G19+'Bon de commande'!F19 -> 7.46 | I4: ='Bon de commande'!H19 -> 8.9 | L4: 0.2
A5: ='Bon de commande'!D20 -> 0 | B5: actycom | D5: ='Bon de commande'!C20 -> 6953156262553 | E5: ='Bon de commande'!B20 -> BCA007144 | F5: ='Bon de commande'!E20 -> Baseus cable audio Yiven M01 USB-C - jack 3,5 mm 1,2 m black | G5: ='Bon de commande'!E20 -> Baseus cable audio Yiven M01 USB-C - jack 3,5 mm 1,2 m black | H5: ='Bon de commande'!G20+'Bon de commande'!F20 -> 5.03 | I5: ='Bon de commande'!H20 -> 9.99 | L5: 0.2
A6: ='Bon de commande'!D21 -> 0 | B6: actycom | D6: ='Bon de commande'!C21 -> 6953156257184 | E6: ='Bon de commande'!B21 -> BCA008301 | F6: ='Bon de commande'!E21 -> Baseus cable audio Yiven M30 jack 3,5 mm - jack 3,5 mm 1,0 m silver-black | G6: ='Bon de commande'!E21 -> Baseus cable audio Yiven M30 jack 3,5 mm - jack 3,5 mm 1,0 m silver-black | H6: ='Bon de commande'!G21+'Bon de commande'!F21 -> 4.03 | I6: ='Bon de commande'!H21 -> 7.99 | L6: 0.2
A7: ='Bon de commande'!D22 -> 0 | B7: actycom | D7: ='Bon de commande'!C22 -> 6953156253667 | E7: ='Bon de commande'!B22 -> BCL006801 | F7: ='Bon de commande'!E22 -> Baseus cable Yiven USB - Lightning 1,8 m 2A black | G7: ='Bon de commande'!E22 -> Baseus cable Yiven USB - Lightning 1,8 m 2A black | H7: ='Bon de commande'!G22+'Bon de commande'!F22 -> 4.03 | I7: ='Bon de commande'!H22 -> 7.99 | L7: 0.2
A8: ='Bon de commande'!D23 -> 0 | B8: actycom | D8: ='Bon de commande'!C23 -> 6953156248823 | E8: ='Bon de commande'!B23 -> BCL006957 | F8: ='Bon de commande'!E23 -> Baseus cable Yiven USB - Lightning 1,2 m 2A navy blue | G8: ='Bon de commande'!E23 -> Baseus cable Yiven USB - Lightning 1,2 m 2A navy blue | H8: ='Bon de commande'!G23+'Bon de commande'!F23 -> 4.03 | I8: ='Bon de commande'!H23 -> 7.99 | L8: 0.2
A9: ='Bon de commande'!D24 -> 0 | B9: actycom | D9: ='Bon de commande'!C24 -> 6953156205413 | E9: ='Bon de commande'!B24 -> BCL010678 | F9: ='Bon de commande'!E24 -> Baseus cable Superior USB - Lightning 1,0 m 2,4A white | G9: ='Bon de commande'!E24 -> Baseus cable Superior USB - Lightning 1,0 m 2,4A white | H9: ='Bon de commande'!G24+'Bon de commande'!F24 -> 3.53 | I9: ='Bon de commande'!H24 -> 6.99 | L9: 0.2
A10: ='Bon de commande'!D25 -> 0 | B10: actycom | D10: ='Bon de commande'!C25 -> 6953156205444 | E10: ='Bon de commande'!B25 -> BCL010679 | F10: ='Bon de commande'!E25 -> Baseus cable Superior USB - Lightning 1,5 m 2,4A white | G10: ='Bon de commande'!E25 -> Baseus cable Superior USB - Lightning 1,5 m 2,4A white | H10: ='Bon de commande'!G25+'Bon de commande'!F25 -> 4.03 | I10: ='Bon de commande'!H25 -> 7.99 | L10: 0.2
A11: ='Bon de commande'!D26 -> 0 | B11: actycom | D11: ='Bon de commande'!C26 -> 6953156205406 | E11: ='Bon de commande'!B26 -> BCL011942 | F11: ='Bon de commande'!E26 -> Baseus cable Superior USB - Lightning 1,0 m 2,4A black | G11: ='Bon de commande'!E26 -> Baseus cable Superior USB - Lightning 1,0 m 2,4A black | H11: ='Bon de commande'!G26+'Bon de commande'!F26 -> 3.53 | I11: ='Bon de commande'!H26 -> 6.99 | L11: 0.2
A12: ='Bon de commande'!D27 -> 0 | B12: actycom | D12: ='Bon de commande'!C27 -> 6953156205437 | E12: ='Bon de commande'!B27 -> BCL011943 | F12: ='Bon de commande'!E27 -> Baseus cable Superior USB - Lightning 1,0 m 2,4A red | G12: ='Bon de commande'!E27 -> Baseus cable Superior USB - Lightning 1,0 m 2,4A red | H12: ='Bon de commande'!G27+'Bon de commande'!F27 -> 3.53 | I12: ='Bon de commande'!H27 -> 6.99 | L12: 0.2
A13: ='Bon de commande'!D28 -> 0 | B13: actycom | D13: ='Bon de commande'!C28 -> 6953156205420 | E13: ='Bon de commande'!B28 -> BCL011944 | F13: ='Bon de commande'!E28 -> Baseus cable Superior USB - Lightning 1,0 m 2,4A blue | G13: ='Bon de commande'!E28 -> Baseus cable Superior USB - Lightning 1,0 m 2,4A blue | H13: ='Bon de commande'!G28+'Bon de commande'!F28 -> 3.53 | I13: ='Bon de commande'!H28 -> 6.99 | L13: 0.2
... A180: ='Bon de commande'!D195 -> 0 | B180: actycom | D180: ='Bon de commande'!C195 -> 6920680858545 | E180: ='Bon de commande'!B195 -> XT184874 | F180: ='Bon de commande'!E195 -> XO transmitter FM BCC17 Bluetooth MP3 car charger 30W black | G180: ='Bon de commande'!E195 -> XO transmitter FM BCC17 Bluetooth MP3 car charger 30W black | H180: ='Bon de commande'!G195+'Bon de commande'!F195 -> 5.49 | I180: ='Bon de commande'!H195 -> 16.99 | L180: 0.2

Sheet carrefour
A1: fichier | B1: Type Action | C1: Identité article | N1: Commandabilité | V1: Tarification | Y1: Anomalies
A2: ='Bon de commande'!D17 -> 0 | C2: ='Bon de commande'!C17 -> 6953156205536 | D2: ='Bon de commande'!E17 -> Baseus cable 3in1 Superior USB - Lightning + USB-C + microUSB 1,5 m 3,5A white | E2: ='Bon de commande'!E17 -> Baseus cable 3in1 Superior USB - Lightning + USB-C + microUSB 1,5 m 3,5A white | V2: 20,00 - 3 | W2: ='Bon de commande'!G17+'Bon de commande'!F17 -> 5.03 | X2: ='Bon de commande'!H17 -> 9.99
A3: ='Bon de commande'!D18 -> 0 | C3: ='Bon de commande'!C18 -> 6932172679606 | D3: ='Bon de commande'!E18 -> Baseus Ultra-Fast One-for-Three Fast Charging Cable USB-A to M+L+C 3.5A 1.3m Nebula Purple | E3: ='Bon de commande'!E18 -> Baseus Ultra-Fast One-for-Three Fast Charging Cable USB-A to M+L+C 3.5A 1.3m Nebula Purple | V3: 20,00 - 3 | W3: ='Bon de commande'!G18+'Bon de commande'!F18 -> 5.03 | X3: ='Bon de commande'!H18 -> 9.99
A4: ='Bon de commande'!D19 -> 0 | C4: ='Bon de commande'!C19 -> 6932172679590 | D4: ='Bon de commande'!E19 -> Baseus Ultra-Fast One-for-Three Fast Charging Cable USB-A to M+L+C 3.5A 0.8m Cosmic Black | E4: ='Bon de commande'!E19 -> Baseus Ultra-Fast One-for-Three Fast Charging Cable USB-A to M+L+C 3.5A 0.8m Cosmic Black | V4: 20,00 - 3 | W4: ='Bon de commande'!G19+'Bon de commande'!F19 -> 7.46 | X4: ='Bon de commande'!H19 -> 8.9
A5: ='Bon de commande'!D20 -> 0 | C5: ='Bon de commande'!C20 -> 6953156262553 | D5: ='Bon de commande'!E20 -> Baseus cable audio Yiven M01 USB-C - jack 3,5 mm 1,2 m black | E5: ='Bon de commande'!E20 -> Baseus cable audio Yiven M01 USB-C - jack 3,5 mm 1,2 m black | V5: 20,00 - 3 | W5: ='Bon de commande'!G20+'Bon de commande'!F20 -> 5.03 | X5: ='Bon de commande'!H20 -> 9.99
A6: ='Bon de commande'!D21 -> 0 | C6: ='Bon de commande'!C21 -> 6953156257184 | D6: ='Bon de commande'!E21 -> Baseus cable audio Yiven M30 jack 3,5 mm - jack 3,5 mm 1,0 m silver-black | E6: ='Bon de commande'!E21 -> Baseus cable audio Yiven M30 jack 3,5 mm - jack 3,5 mm 1,0 m silver-black | V6: 20,00 - 3 | W6: ='Bon de commande'!G21+'Bon de commande'!F21 -> 4.03 | X6: ='Bon de commande'!H21 -> 7.99
A7: ='Bon de commande'!D22 -> 0 | C7: ='Bon de commande'!C22 -> 6953156253667 | D7: ='Bon de commande'!E22 -> Baseus cable Yiven USB - Lightning 1,8 m 2A black | E7: ='Bon de commande'!E22 -> Baseus cable Yiven USB - Lightning 1,8 m 2A black | V7: 20,00 - 3 | W7: ='Bon de commande'!G22+'Bon de commande'!F22 -> 4.03 | X7: ='Bon de commande'!H22 -> 7.99
A8: ='Bon de commande'!D23 -> 0 | C8: ='Bon de commande'!C23 -> 6953156248823 | D8: ='Bon de commande'!E23 -> Baseus cable Yiven USB - Lightning 1,2 m 2A navy blue | E8: ='Bon de commande'!E23 -> Baseus cable Yiven USB - Lightning 1,2 m 2A navy blue | V8: 20,00 - 3 | W8: ='Bon de commande'!G23+'Bon de commande'!F23 -> 4.03 | X8: ='Bon de commande'!H23 -> 7.99
A9: ='Bon de commande'!D24 -> 0 | C9: ='Bon de commande'!C24 -> 6953156205413 | D9: ='Bon de commande'!E24 -> Baseus cable Superior USB - Lightning 1,0 m 2,4A white | E9: ='Bon de commande'!E24 -> Baseus cable Superior USB - Lightning 1,0 m 2,4A white | V9: 20,00 - 3 | W9: ='Bon de commande'!G24+'Bon de commande'!F24 -> 3.53 | X9: ='Bon de commande'!H24 -> 6.99
A10: ='Bon de commande'!D25 -> 0 | C10: ='Bon de commande'!C25 -> 6953156205444 | D10: ='Bon de commande'!E25 -> Baseus cable Superior USB - Lightning 1,5 m 2,4A white | E10: ='Bon de commande'!E25 -> Baseus cable Superior USB - Lightning 1,5 m 2,4A white | V10: 20,00 - 3 | W10: ='Bon de commande'!G25+'Bon de commande'!F25 -> 4.03 | X10: ='Bon de commande'!H25 -> 7.99
A11: ='Bon de commande'!D26 -> 0 | C11: ='Bon de commande'!C26 -> 6953156205406 | D11: ='Bon de commande'!E26 -> Baseus cable Superior USB - Lightning 1,0 m 2,4A black | E11: ='Bon de commande'!E26 -> Baseus cable Superior USB - Lightning 1,0 m 2,4A black | V11: 20,00 - 3 | W11: ='Bon de commande'!G26+'Bon de commande'!F26 -> 3.53 | X11: ='Bon de commande'!H26 -> 6.99
A12: ='Bon de commande'!D27 -> 0 | C12: ='Bon de commande'!C27 -> 6953156205437 | D12: ='Bon de commande'!E27 -> Baseus cable Superior USB - Lightning 1,0 m 2,4A red | E12: ='Bon de commande'!E27 -> Baseus cable Superior USB - Lightning 1,0 m 2,4A red | V12: 20,00 - 3 | W12: ='Bon de commande'!G27+'Bon de commande'!F27 -> 3.53 | X12: ='Bon de commande'!H27 -> 6.99
A13: ='Bon de commande'!D28 -> 0 | C13: ='Bon de commande'!C28 -> 6953156205420 | D13: ='Bon de commande'!E28 -> Baseus cable Superior USB - Lightning 1,0 m 2,4A blue | E13: ='Bon de commande'!E28 -> Baseus cable Superior USB - Lightning 1,0 m 2,4A blue | V13: 20,00 - 3 | W13: ='Bon de commande'!G28+'Bon de commande'!F28 -> 3.53 | X13: ='Bon de commande'!H28 -> 6.99
... A180: ='Bon de commande'!D195 -> 0 | C180: ='Bon de commande'!C195 -> 6920680858545 | D180: ='Bon de commande'!E195 -> XO transmitter FM BCC17 Bluetooth MP3 car charger 30W black | E180: ='Bon de commande'!E195 -> XO transmitter FM BCC17 Bluetooth MP3 car charger 30W black | V180: 20,00 - 3 | W180: ='Bon de commande'!G195+'Bon de commande'!F195 -> 5.49 | X180: ='Bon de commande'!H195 -> 16.99
